BEGIN:VCALENDAR
VERSION:2.0
PRODID:-//hacksw/handcal//NONSGML v1.0//EN
BEGIN:VEVENT
SUMMARY:Regional Simple F4, M4 et M3 a Pau
UID:cf5c2043-09a7-4ee0-a506-dc27fb666d9f
DTSTART:20260613T220000Z
DTEND:20260614T220000Z
LOCATION:Localisation   
CATEGORIES:Sportif
STATUS:
DESCRIPTION:<p>Participation de Marie-Christine G, Florian et
 Claude</p>
 
 <p>8 joueurs par categorie, les champions iront aux
 championnats de France</p>
URL;VALUE=URI:https://sport-boules-portets.sportsregions.fr/evenements/2026/06/14/regional-simple-f4-m4-et-m3-a-pau-2441898
END:VEVENT
END:VCALENDAR
