BEGIN:VCALENDAR
VERSION:2.0
PRODID:-//hacksw/handcal//NONSGML v1.0//EN
BEGIN:VEVENT
SUMMARY:Regional Aquitaine des AS a Vieux Boucau
UID:9573360b-74a1-46e3-9ac5-2d213948c8de
DTSTART:20260529T220000Z
DTEND:20260530T220000Z
LOCATION:Localisation   
CATEGORIES:Sportif
STATUS:
URL;VALUE=URI:https://sport-boules-portets.sportsregions.fr/evenements/2026/05/30/regional-aquitaine-des-as-a-vieux-boucau-2441897
END:VEVENT
END:VCALENDAR
