BEGIN:VCALENDAR
VERSION:2.0
PRODID:-//hacksw/handcal//NONSGML v1.0//EN
BEGIN:VEVENT
SUMMARY:Animation Musee de Beautiran
UID:8262b032-48a1-4c2a-bdaa-17bd69163ff9
DTSTART:20260410T220000Z
DTEND:20260411T220000Z
LOCATION:Localisation   
CATEGORIES:Sportif
STATUS:
URL;VALUE=URI:https://sport-boules-portets.sportsregions.fr/evenements/2026/04/11/animation-musee-de-beautiran-2433839
END:VEVENT
END:VCALENDAR
